BEGIN:VCALENDAR
VERSION:2.0
PRODID:-//VE3ZM - ECPv6.15.20//NONSGML v1.0//EN
CALSCALE:GREGORIAN
METHOD:PUBLISH
X-ORIGINAL-URL:https://garc.ca
X-WR-CALDESC:Events for VE3ZM
REFRESH-INTERVAL;VALUE=DURATION:PT1H
X-Robots-Tag:noindex
X-PUBLISHED-TTL:PT1H
BEGIN:VTIMEZONE
TZID:America/Toronto
BEGIN:DAYLIGHT
TZOFFSETFROM:-0500
TZOFFSETTO:-0400
TZNAME:EDT
DTSTART:20220313T070000
END:DAYLIGHT
BEGIN:STANDARD
TZOFFSETFROM:-0400
TZOFFSETTO:-0500
TZNAME:EST
DTSTART:20221106T060000
END:STANDARD
BEGIN:DAYLIGHT
TZOFFSETFROM:-0500
TZOFFSETTO:-0400
TZNAME:EDT
DTSTART:20230312T070000
END:DAYLIGHT
BEGIN:STANDARD
TZOFFSETFROM:-0400
TZOFFSETTO:-0500
TZNAME:EST
DTSTART:20231105T060000
END:STANDARD
BEGIN:DAYLIGHT
TZOFFSETFROM:-0500
TZOFFSETTO:-0400
TZNAME:EDT
DTSTART:20240310T070000
END:DAYLIGHT
BEGIN:STANDARD
TZOFFSETFROM:-0400
TZOFFSETTO:-0500
TZNAME:EST
DTSTART:20241103T060000
END:STANDARD
END:VTIMEZONE
BEGIN:VEVENT
DTSTART;TZID=America/Toronto:20230417T190000
DTEND;TZID=America/Toronto:20230417T210000
DTSTAMP:20260423T132351
CREATED:20230416T213709Z
LAST-MODIFIED:20230416T215433Z
UID:359-1681758000-1681765200@garc.ca
SUMMARY:April 2023 Club Meeting – We're Back and In Person!
DESCRIPTION:The next meeting of the Guelph Amateur Radio Club will occur at 7PM ET on Monday\, April 14\, 2023 at a City of Guelph facility at 59 Carden Street\, behind the old Court House\, beside the train tracks. For those having a hard time finding the entrance\, we’ll have a talk-in station on VA3SLD (147.360+ CTCSS 131.8Hz). This will be the new regular meeting place of the Club. \nThe Agenda for the meeting can be found HERE\, and the minutes of the last regular meeting (2021-11-15) can be found HERE. \nThere have been several developments in the club’s relationship with the City of Guelph over the last few months\, and the Executive team is eager to share the details\, as well as unveil the new City of Guelph-owned HF/VHF/UHF Auxiliary Communications Station\, and to discuss next-steps in its use. We also need to discuss the Central Ontario Hamfest\, which takes place on Sunday\, June 4\, as well as a Rotary Club event that we’ve been asked to provide volunteers for on Saturday\, April 22. \nFinally\, the last steps to getting back to normal will be elections and reinstatement of club dues\, which will be discussed and plans finalized. \nWe’ve been waiting a long time to get back together post-pandemic\, and while it’s been a bumpy road\, we’re here. You are encouraged to come out and be part of the Club’s resurgence. We look forward to seeing everyone tomorrow evening.
URL:https://garc.ca/event/20230417/
LOCATION:City of Guelph By-law/Works\, 59 Carden Street\, Guelph\, Ontario\, N1H 2Z9\, Canada
CATEGORIES:Regular Meetings
END:VEVENT
END:VCALENDAR