BEGIN:VCALENDAR
VERSION:2.0
PRODID:-//VE3ZM - ECPv6.15.20//NONSGML v1.0//EN
CALSCALE:GREGORIAN
METHOD:PUBLISH
X-ORIGINAL-URL:https://garc.ca
X-WR-CALDESC:Events for VE3ZM
REFRESH-INTERVAL;VALUE=DURATION:PT1H
X-Robots-Tag:noindex
X-PUBLISHED-TTL:PT1H
BEGIN:VTIMEZONE
TZID:America/Toronto
BEGIN:DAYLIGHT
TZOFFSETFROM:-0500
TZOFFSETTO:-0400
TZNAME:EDT
DTSTART:20210314T070000
END:DAYLIGHT
BEGIN:STANDARD
TZOFFSETFROM:-0400
TZOFFSETTO:-0500
TZNAME:EST
DTSTART:20211107T060000
END:STANDARD
BEGIN:DAYLIGHT
TZOFFSETFROM:-0500
TZOFFSETTO:-0400
TZNAME:EDT
DTSTART:20220313T070000
END:DAYLIGHT
BEGIN:STANDARD
TZOFFSETFROM:-0400
TZOFFSETTO:-0500
TZNAME:EST
DTSTART:20221106T060000
END:STANDARD
BEGIN:DAYLIGHT
TZOFFSETFROM:-0500
TZOFFSETTO:-0400
TZNAME:EDT
DTSTART:20230312T070000
END:DAYLIGHT
BEGIN:STANDARD
TZOFFSETFROM:-0400
TZOFFSETTO:-0500
TZNAME:EST
DTSTART:20231105T060000
END:STANDARD
END:VTIMEZONE
BEGIN:VEVENT
DTSTART;TZID=America/Toronto:20220516T070000
DTEND;TZID=America/Toronto:20220516T203000
DTSTAMP:20260424T055004
CREATED:20220516T194656Z
LAST-MODIFIED:20230416T215516Z
UID:345-1652684400-1652733000@garc.ca
SUMMARY:May 2022 Annual General Meeting - Elections
DESCRIPTION:The next meeting of the Guelph ARC will be its Annual General Meeting. The agenda can be found here. A motion was put forward by Phil\, VA3QR at the last meeting to combine the Board of Directors and the Club Executive into one body consisting of 5 members (President\, Vice-President\, Secretary\, Treasurer\, Director-at-Large) and that those offices would be up for election every two years. This motion will be voted on at this meeting. After that\, elections will take place. It is important that all five offices be filled by election. The meeting will take place at the West End Recreation Centre. We look forward to seeing everyone.
URL:https://garc.ca/event/20220516/
LOCATION:West End Recreation Centre\, 21 Imperial Road South\, Guelph\, Ontario\, N1K 0B6\, Canada
CATEGORIES:Regular Meetings
END:VEVENT
END:VCALENDAR