BEGIN:VCALENDAR
VERSION:2.0
PRODID:-//VE3ZM - ECPv6.15.20//NONSGML v1.0//EN
CALSCALE:GREGORIAN
METHOD:PUBLISH
X-WR-CALNAME:VE3ZM
X-ORIGINAL-URL:http://garc.ca
X-WR-CALDESC:Events for VE3ZM
REFRESH-INTERVAL;VALUE=DURATION:PT1H
X-Robots-Tag:noindex
X-PUBLISHED-TTL:PT1H
BEGIN:VTIMEZONE
TZID:America/Toronto
BEGIN:DAYLIGHT
TZOFFSETFROM:-0500
TZOFFSETTO:-0400
TZNAME:EDT
DTSTART:20250309T070000
END:DAYLIGHT
BEGIN:STANDARD
TZOFFSETFROM:-0400
TZOFFSETTO:-0500
TZNAME:EST
DTSTART:20251102T060000
END:STANDARD
BEGIN:DAYLIGHT
TZOFFSETFROM:-0500
TZOFFSETTO:-0400
TZNAME:EDT
DTSTART:20260308T070000
END:DAYLIGHT
BEGIN:STANDARD
TZOFFSETFROM:-0400
TZOFFSETTO:-0500
TZNAME:EST
DTSTART:20261101T060000
END:STANDARD
BEGIN:DAYLIGHT
TZOFFSETFROM:-0500
TZOFFSETTO:-0400
TZNAME:EDT
DTSTART:20270314T070000
END:DAYLIGHT
BEGIN:STANDARD
TZOFFSETFROM:-0400
TZOFFSETTO:-0500
TZNAME:EST
DTSTART:20271107T060000
END:STANDARD
END:VTIMEZONE
BEGIN:VEVENT
DTSTART;TZID=America/Toronto:20260607T080000
DTEND;TZID=America/Toronto:20260607T123000
DTSTAMP:20260420T034830
CREATED:20260121T010103Z
LAST-MODIFIED:20260122T003827Z
UID:1347-1780819200-1780835400@garc.ca
SUMMARY:Central Ontario Hamfest
DESCRIPTION:https://hamfest.on.ca/ \nhamfest 2026 Poster-Blue
URL:http://garc.ca/event/central-ontario-hamfest/
LOCATION:waterloo regional Police Association\, 1128 Rife Rd.\, North Dumfries\, ON\, Cambridge\, Ontario\, Canada
END:VEVENT
BEGIN:VEVENT
DTSTART;VALUE=DATE:20260626
DTEND;VALUE=DATE:20260629
DTSTAMP:20260420T034830
CREATED:20260129T234809Z
LAST-MODIFIED:20260130T003349Z
UID:1374-1782432000-1782691199@garc.ca
SUMMARY:2026 Field Day - Scouts - Blue Springs (JOTA) event
DESCRIPTION:We are having Field day at Blue Springs this year and it will be in conjunction with the JOTA and Youth on the air event there! \nLet the President or Craig know if you are interested!
URL:http://garc.ca/event/2026-field-day-scouts-blue-springs-jota-event/
LOCATION:Blue Springs Scout Camp\, 14009 Nottawasaga 6th line\, Milton/Acton\, Ontario\, Canada
CATEGORIES:Amateur Radio Events,Public Service Events
END:VEVENT
END:VCALENDAR