BEGIN:VCALENDAR
VERSION:2.0
PRODID:-//VE3ZM - ECPv6.15.20//NONSGML v1.0//EN
CALSCALE:GREGORIAN
METHOD:PUBLISH
X-WR-CALNAME:VE3ZM
X-ORIGINAL-URL:http://garc.ca
X-WR-CALDESC:Events for VE3ZM
REFRESH-INTERVAL;VALUE=DURATION:PT1H
X-Robots-Tag:noindex
X-PUBLISHED-TTL:PT1H
BEGIN:VTIMEZONE
TZID:America/Toronto
BEGIN:DAYLIGHT
TZOFFSETFROM:-0500
TZOFFSETTO:-0400
TZNAME:EDT
DTSTART:20240310T070000
END:DAYLIGHT
BEGIN:STANDARD
TZOFFSETFROM:-0400
TZOFFSETTO:-0500
TZNAME:EST
DTSTART:20241103T060000
END:STANDARD
BEGIN:DAYLIGHT
TZOFFSETFROM:-0500
TZOFFSETTO:-0400
TZNAME:EDT
DTSTART:20250309T070000
END:DAYLIGHT
BEGIN:STANDARD
TZOFFSETFROM:-0400
TZOFFSETTO:-0500
TZNAME:EST
DTSTART:20251102T060000
END:STANDARD
BEGIN:DAYLIGHT
TZOFFSETFROM:-0500
TZOFFSETTO:-0400
TZNAME:EDT
DTSTART:20260308T070000
END:DAYLIGHT
BEGIN:STANDARD
TZOFFSETFROM:-0400
TZOFFSETTO:-0500
TZNAME:EST
DTSTART:20261101T060000
END:STANDARD
END:VTIMEZONE
BEGIN:VEVENT
DTSTART;TZID=America/Toronto:20250601T090000
DTEND;TZID=America/Toronto:20250601T120000
DTSTAMP:20260420T170544
CREATED:20250214T001017Z
LAST-MODIFIED:20250428T121434Z
UID:410-1748768400-1748779200@garc.ca
SUMMARY:4 9 T H  A N N U A L CENTRAL ONTARIO AMATEUR RADIO FLEAMARKET & HAMFEST
DESCRIPTION:https://www.hamfest.on.ca/ \n  \n2025 Hamfest Poster
URL:http://garc.ca/event/4-9-t-h-a-n-n-u-a-l-central-ontario-amateur-radio-fleamarket-hamfest/
LOCATION:waterloo regional Police Association\, 1128 Rife Rd.\, North Dumfries\, ON\, Cambridge\, Ontario\, Canada
END:VEVENT
END:VCALENDAR