BEGIN:VCALENDAR
VERSION:2.0
PRODID:-//VE3ZM - ECPv6.15.20//NONSGML v1.0//EN
CALSCALE:GREGORIAN
METHOD:PUBLISH
X-ORIGINAL-URL:http://garc.ca
X-WR-CALDESC:Events for VE3ZM
REFRESH-INTERVAL;VALUE=DURATION:PT1H
X-Robots-Tag:noindex
X-PUBLISHED-TTL:PT1H
BEGIN:VTIMEZONE
TZID:America/Toronto
BEGIN:DAYLIGHT
TZOFFSETFROM:-0500
TZOFFSETTO:-0400
TZNAME:EDT
DTSTART:20240310T070000
END:DAYLIGHT
BEGIN:STANDARD
TZOFFSETFROM:-0400
TZOFFSETTO:-0500
TZNAME:EST
DTSTART:20241103T060000
END:STANDARD
BEGIN:DAYLIGHT
TZOFFSETFROM:-0500
TZOFFSETTO:-0400
TZNAME:EDT
DTSTART:20250309T070000
END:DAYLIGHT
BEGIN:STANDARD
TZOFFSETFROM:-0400
TZOFFSETTO:-0500
TZNAME:EST
DTSTART:20251102T060000
END:STANDARD
BEGIN:DAYLIGHT
TZOFFSETFROM:-0500
TZOFFSETTO:-0400
TZNAME:EDT
DTSTART:20260308T070000
END:DAYLIGHT
BEGIN:STANDARD
TZOFFSETFROM:-0400
TZOFFSETTO:-0500
TZNAME:EST
DTSTART:20261101T060000
END:STANDARD
END:VTIMEZONE
BEGIN:VEVENT
DTSTART;TZID=America/Toronto:20250502T090000
DTEND;TZID=America/Toronto:20250502T150000
DTSTAMP:20260420T184227
CREATED:20250422T161143Z
LAST-MODIFIED:20250422T161243Z
UID:520-1746176400-1746198000@garc.ca
SUMMARY:GARC Emergency preparedness Day Event and display
DESCRIPTION:The Club will have a display at Emergency Preparedness Day with the City of Guelph. All  Guelph and local Hams are welcome and invited to attend and help with the display between 9 and 3PM. \nEP WEEK 2025 ENGLISH \n 
URL:http://garc.ca/event/garc-emergency-preparedness-day-event-and-display/
LOCATION:West End Community Centre\, 21 Imperial Road South\, Guelph\, ON\, N1K 1X3\, Canada
ORGANIZER;CN="Stephen":MAILTO:va3zxn@gmail.com
END:VEVENT
END:VCALENDAR