BEGIN:VCALENDAR
VERSION:2.0
PRODID:-//VE3ZM - ECPv6.15.20//NONSGML v1.0//EN
CALSCALE:GREGORIAN
METHOD:PUBLISH
X-WR-CALNAME:VE3ZM
X-ORIGINAL-URL:http://garc.ca
X-WR-CALDESC:Events for VE3ZM
REFRESH-INTERVAL;VALUE=DURATION:PT1H
X-Robots-Tag:noindex
X-PUBLISHED-TTL:PT1H
BEGIN:VTIMEZONE
TZID:America/Toronto
BEGIN:DAYLIGHT
TZOFFSETFROM:-0500
TZOFFSETTO:-0400
TZNAME:EDT
DTSTART:20190310T070000
END:DAYLIGHT
BEGIN:STANDARD
TZOFFSETFROM:-0400
TZOFFSETTO:-0500
TZNAME:EST
DTSTART:20191103T060000
END:STANDARD
BEGIN:DAYLIGHT
TZOFFSETFROM:-0500
TZOFFSETTO:-0400
TZNAME:EDT
DTSTART:20200308T070000
END:DAYLIGHT
BEGIN:STANDARD
TZOFFSETFROM:-0400
TZOFFSETTO:-0500
TZNAME:EST
DTSTART:20201101T060000
END:STANDARD
BEGIN:DAYLIGHT
TZOFFSETFROM:-0500
TZOFFSETTO:-0400
TZNAME:EDT
DTSTART:20210314T070000
END:DAYLIGHT
BEGIN:STANDARD
TZOFFSETFROM:-0400
TZOFFSETTO:-0500
TZNAME:EST
DTSTART:20211107T060000
END:STANDARD
END:VTIMEZONE
BEGIN:VEVENT
DTSTART;TZID=America/Toronto:20200420T184000
DTEND;TZID=America/Toronto:20200420T201000
DTSTAMP:20260420T154038
CREATED:20200321T201420Z
LAST-MODIFIED:20200328T163423Z
UID:173-1587408000-1587413400@garc.ca
SUMMARY:April 2020 Club Meeting (Virtual) - AREDN/MESH/Projects
DESCRIPTION:This meeting will be conducted virtually using GoToMeeting\, and will start at 6:40PM ET to allow time to work out any technical bugs that may arise. Guests are free to join the meeting the same way they would be welcome to come out in person. \nWe will be discussing the AREDN/MESH project\, as well as a new project that the club is embarking on with the City of Guelph’s Public Health Department. \nThe meeting agenda can be found in PDF format here. \nPlease join my meeting from your computer\, tablet or smartphone.\nhttps://www.gotomeet.me/garcroom1/garc20200420 \nYou can also dial in using your phone.\nCanada: +1 (647) 497-9391 \nAccess Code: 483-469-541 \nNew to GoToMeeting? Get the app now and be ready when your first meeting starts:\nhttps://global.gotomeeting.com/install/483469541
URL:http://garc.ca/event/20200420/
LOCATION:GoToMeeting
CATEGORIES:Regular Meetings
END:VEVENT
BEGIN:VEVENT
DTSTART;TZID=America/Toronto:20200217T193000
DTEND;TZID=America/Toronto:20200217T210000
DTSTAMP:20260420T154038
CREATED:20200205T033803Z
LAST-MODIFIED:20200217T215553Z
UID:40-1581967800-1581973200@garc.ca
SUMMARY:February 2020 Club Meeting - Tour of Fire Station 1
DESCRIPTION:Our next club meeting will be a tour of Guelph Fire Station #1. We’ll meet at the station at 7:30PM. Talk-in on VE3ZMG.
URL:http://garc.ca/event/20200217/
LOCATION:Guelph Fire Station 1\, 50 Wyndham Street South\, Guelph\, Ontario\, N1H 4E1\, Canada
CATEGORIES:Regular Meetings
END:VEVENT
END:VCALENDAR