BEGIN:VCALENDAR
VERSION:2.0
PRODID:-//VE3ZM - ECPv6.15.20//NONSGML v1.0//EN
CALSCALE:GREGORIAN
METHOD:PUBLISH
X-WR-CALNAME:VE3ZM
X-ORIGINAL-URL:http://garc.ca
X-WR-CALDESC:Events for VE3ZM
REFRESH-INTERVAL;VALUE=DURATION:PT1H
X-Robots-Tag:noindex
X-PUBLISHED-TTL:PT1H
BEGIN:VTIMEZONE
TZID:America/Toronto
BEGIN:DAYLIGHT
TZOFFSETFROM:-0500
TZOFFSETTO:-0400
TZNAME:EDT
DTSTART:20250309T070000
END:DAYLIGHT
BEGIN:STANDARD
TZOFFSETFROM:-0400
TZOFFSETTO:-0500
TZNAME:EST
DTSTART:20251102T060000
END:STANDARD
BEGIN:DAYLIGHT
TZOFFSETFROM:-0500
TZOFFSETTO:-0400
TZNAME:EDT
DTSTART:20260308T070000
END:DAYLIGHT
BEGIN:STANDARD
TZOFFSETFROM:-0400
TZOFFSETTO:-0500
TZNAME:EST
DTSTART:20261101T060000
END:STANDARD
BEGIN:DAYLIGHT
TZOFFSETFROM:-0500
TZOFFSETTO:-0400
TZNAME:EDT
DTSTART:20270314T070000
END:DAYLIGHT
BEGIN:STANDARD
TZOFFSETFROM:-0400
TZOFFSETTO:-0500
TZNAME:EST
DTSTART:20271107T060000
END:STANDARD
END:VTIMEZONE
BEGIN:VEVENT
DTSTART;TZID=America/Toronto:20260119T190000
DTEND;TZID=America/Toronto:20260119T200000
DTSTAMP:20260420T115318
CREATED:20260111T142519Z
LAST-MODIFIED:20260111T142540Z
UID:1319-1768849200-1768852800@garc.ca
SUMMARY:GARC January Club Meeting
DESCRIPTION:1st meeting of the year\, please bring club dues! \nEmergency Coordinator presentation \nCATS hardware demo
URL:http://garc.ca/event/jarc-january-club-meeting/
LOCATION:City of Guelph By-law/Works\, 59 Carden Street\, Guelph\, Ontario\, N1H 2Z9\, Canada
CATEGORIES:Regular Meetings
ORGANIZER;CN="Stephen":MAILTO:va3zxn@gmail.com
END:VEVENT
END:VCALENDAR